BEGIN:VCALENDAR
VERSION:2.0
PRODID:-//SPIRE Academy - ECPv6.14.2//NONSGML v1.0//EN
CALSCALE:GREGORIAN
METHOD:PUBLISH
X-ORIGINAL-URL:https://www.spireacademy.com
X-WR-CALDESC:Events for SPIRE Academy
REFRESH-INTERVAL;VALUE=DURATION:PT1H
X-Robots-Tag:noindex
X-PUBLISHED-TTL:PT1H
BEGIN:VTIMEZONE
TZID:UTC
BEGIN:STANDARD
TZOFFSETFROM:+0000
TZOFFSETTO:+0000
TZNAME:UTC
DTSTART:20260101T000000
END:STANDARD
END:VTIMEZONE
BEGIN:VEVENT
DTSTART;VALUE=DATE:20260117
DTEND;VALUE=DATE:20260118
DTSTAMP:20260424T153708
CREATED:20251013T195645Z
LAST-MODIFIED:20260116T163121Z
UID:14326-1768608000-1768694399@www.spireacademy.com
SUMMARY:SPIRE High School Invitational
DESCRIPTION:Date: January 17\, 2026 \nLocation: Track Building – Building C \n  \n  \nFind out more: \nHS Meet Information 2025-2026 \nTime Schedule \nSPIRE Event Guide \nSPIRE’s Policies \nSPIRE Facility Map \nIndividual Waiver \nTeam Waiver \nSPIRE Hotels \nDining Options
URL:https://www.spireacademy.com/event/spire-high-school-invitational-3/
CATEGORIES:High School,Track & Field
ATTACH;FMTTYPE=image/png:https://www.spireacademy.com/wp-content/uploads/2024/10/TF.png
END:VEVENT
END:VCALENDAR